BEGIN:VCALENDAR
VERSION:2.0
PRODID:-//sebbo.net//ical-generator//EN
NAME:scuola.binario7.org iCal
X-WR-CALNAME:scuola.binario7.org iCal
TIMEZONE-ID:Europe/Rome
X-WR-TIMEZONE:Europe/Rome
BEGIN:VEVENT
UID:5wfj@scuola.binario7.org
SEQUENCE:0
DTSTAMP:20260421T120342Z
DTSTART:20260409T080000Z
SUMMARY:ALZATI\, MARTIN - Ballata teatrale per Martin Luther King (ANNULLA
 TA)
URL;VALUE=URI:https://scuola.binario7.org
END:VEVENT
BEGIN:VEVENT
UID:80ov@scuola.binario7.org
SEQUENCE:0
DTSTAMP:20260421T120342Z
DTSTART:20260413T080000Z
SUMMARY:LE AVVENTURE DI PINOCCHIO. Raccontate da lui medesimo
URL;VALUE=URI:https://scuola.binario7.org
END:VEVENT
BEGIN:VEVENT
UID:mem4@scuola.binario7.org
SEQUENCE:0
DTSTAMP:20260421T120342Z
DTSTART:20260409T183000Z
SUMMARY:I DIALOGHI DELL'ARTE: I giovani arrabbiati - arte e letteratura ne
 lla Londra di fine millennio
URL;VALUE=URI:https://scuola.binario7.org
END:VEVENT
BEGIN:VEVENT
UID:11ei@scuola.binario7.org
SEQUENCE:0
DTSTAMP:20260421T120342Z
DTSTART:20260528T170000Z
SUMMARY:PICCOLE INCRESPATURE
URL;VALUE=URI:https://scuola.binario7.org
END:VEVENT
BEGIN:VEVENT
UID:2423@scuola.binario7.org
SEQUENCE:0
DTSTAMP:20260421T120342Z
DTSTART:20260507T190000Z
SUMMARY:IL MURO
URL;VALUE=URI:https://scuola.binario7.org
END:VEVENT
BEGIN:VEVENT
UID:nwn2@scuola.binario7.org
SEQUENCE:0
DTSTAMP:20260421T120342Z
DTSTART:20260528T190000Z
SUMMARY:PICCOLE INCRESPATURE
URL;VALUE=URI:https://scuola.binario7.org
END:VEVENT
BEGIN:VEVENT
UID:rw37@scuola.binario7.org
SEQUENCE:0
DTSTAMP:20260421T120342Z
DTSTART:20260508T190000Z
SUMMARY:IL MURO
URL;VALUE=URI:https://scuola.binario7.org
END:VEVENT
BEGIN:VEVENT
UID:pc18@scuola.binario7.org
SEQUENCE:0
DTSTAMP:20260421T120342Z
DTSTART:20260509T190000Z
SUMMARY:IL MURO
URL;VALUE=URI:https://scuola.binario7.org
END:VEVENT
BEGIN:VEVENT
UID:cchp@scuola.binario7.org
SEQUENCE:0
DTSTAMP:20260421T120342Z
DTSTART:20260510T140000Z
SUMMARY:IL MURO
URL;VALUE=URI:https://scuola.binario7.org
END:VEVENT
BEGIN:VEVENT
UID:ajmq@scuola.binario7.org
SEQUENCE:0
DTSTAMP:20260421T120342Z
DTSTART:20260415T183000Z
SUMMARY:I MERCOLEDÌ DELLA POESIA - Montale: come vincere il Nobel vivendo 
 al 5%
URL;VALUE=URI:https://scuola.binario7.org
END:VEVENT
BEGIN:VEVENT
UID:129b@scuola.binario7.org
SEQUENCE:0
DTSTAMP:20260421T120342Z
DTSTART:20260412T140000Z
SUMMARY:LE AVVENTURE DI PINOCCHIO. Raccontate da lui medesimo
URL;VALUE=URI:https://scuola.binario7.org
END:VEVENT
BEGIN:VEVENT
UID:sbwe@scuola.binario7.org
SEQUENCE:0
DTSTAMP:20260421T120342Z
DTSTART:20260411T190000Z
SUMMARY:NON SOLO PIAZZOLLA. La musica argentina del '900
URL;VALUE=URI:https://scuola.binario7.org
END:VEVENT
BEGIN:VEVENT
UID:3cvz@scuola.binario7.org
SEQUENCE:0
DTSTAMP:20260421T120342Z
DTSTART:20260410T183000Z
SUMMARY:A CASA LA SAPEVO
URL;VALUE=URI:https://scuola.binario7.org
END:VEVENT
BEGIN:VEVENT
UID:9n5u@scuola.binario7.org
SEQUENCE:0
DTSTAMP:20260421T120342Z
DTSTART:20260417T190000Z
SUMMARY:SPETTACOLO AL BUIO
URL;VALUE=URI:https://scuola.binario7.org
END:VEVENT
BEGIN:VEVENT
UID:gj66@scuola.binario7.org
SEQUENCE:0
DTSTAMP:20260421T120342Z
DTSTART:20260419T140000Z
SUMMARY:SPETTACOLO AL BUIO
URL;VALUE=URI:https://scuola.binario7.org
END:VEVENT
BEGIN:VEVENT
UID:5d0k@scuola.binario7.org
SEQUENCE:0
DTSTAMP:20260421T120342Z
DTSTART:20260418T190000Z
SUMMARY:SPETTACOLO AL BUIO
URL;VALUE=URI:https://scuola.binario7.org
END:VEVENT
BEGIN:VEVENT
UID:txf8@scuola.binario7.org
SEQUENCE:0
DTSTAMP:20260421T120342Z
DTSTART:20260419T170000Z
SUMMARY:Saggio Scuola di Teatro - COME I BAMBINI NELLA SABBIA
URL;VALUE=URI:https://scuola.binario7.org
END:VEVENT
BEGIN:VEVENT
UID:vr50@scuola.binario7.org
SEQUENCE:0
DTSTAMP:20260421T120342Z
DTSTART:20260514T190000Z
SUMMARY:Vladimir Luxuria in STASERA VE LE CANTO
URL;VALUE=URI:https://scuola.binario7.org
END:VEVENT
BEGIN:VEVENT
UID:g5l5@scuola.binario7.org
SEQUENCE:0
DTSTAMP:20260421T120342Z
DTSTART:20260515T190000Z
SUMMARY:SCENDE GIÙ PER TOLEDO
URL;VALUE=URI:https://scuola.binario7.org
END:VEVENT
BEGIN:VEVENT
UID:kv9z@scuola.binario7.org
SEQUENCE:0
DTSTAMP:20260421T120342Z
DTSTART:20260516T190000Z
SUMMARY:SCENDE GIÙ PER TOLEDO
URL;VALUE=URI:https://scuola.binario7.org
END:VEVENT
BEGIN:VEVENT
UID:elba@scuola.binario7.org
SEQUENCE:0
DTSTAMP:20260421T120342Z
DTSTART:20260517T170000Z
SUMMARY:GIORNATA DI CHIUSURA DEL FESTIVAL (NON) BINARIO
URL;VALUE=URI:https://scuola.binario7.org
END:VEVENT
BEGIN:VEVENT
UID:oj5q@scuola.binario7.org
SEQUENCE:0
DTSTAMP:20260421T120342Z
DTSTART:20260515T180000Z
SUMMARY:CHECCORO - Over the Rainbow
URL;VALUE=URI:https://scuola.binario7.org
END:VEVENT
BEGIN:VEVENT
UID:g69j@scuola.binario7.org
SEQUENCE:0
DTSTAMP:20260421T120342Z
DTSTART:20260516T173000Z
SUMMARY:SERATA DI ASSEGNAZIONE DEL PREMIO LEONE ARCOBALENO 2026
URL;VALUE=URI:https://scuola.binario7.org
END:VEVENT
END:VCALENDAR